BEGIN:VCALENDAR
VERSION:2.0
PRODID:-//m4Social - ECPv6.15.20//NONSGML v1.0//EN
CALSCALE:GREGORIAN
METHOD:PUBLISH
X-WR-CALNAME:m4Social
X-ORIGINAL-URL:https://m4social.org
X-WR-CALDESC:Esdeveniments per m4Social
REFRESH-INTERVAL;VALUE=DURATION:PT1H
X-Robots-Tag:noindex
X-PUBLISHED-TTL:PT1H
BEGIN:VTIMEZONE
TZID:Europe/Madrid
BEGIN:DAYLIGHT
TZOFFSETFROM:+0100
TZOFFSETTO:+0200
TZNAME:CEST
DTSTART:20220327T010000
END:DAYLIGHT
BEGIN:STANDARD
TZOFFSETFROM:+0200
TZOFFSETTO:+0100
TZNAME:CET
DTSTART:20221030T010000
END:STANDARD
BEGIN:DAYLIGHT
TZOFFSETFROM:+0100
TZOFFSETTO:+0200
TZNAME:CEST
DTSTART:20230326T010000
END:DAYLIGHT
BEGIN:STANDARD
TZOFFSETFROM:+0200
TZOFFSETTO:+0100
TZNAME:CET
DTSTART:20231029T010000
END:STANDARD
BEGIN:DAYLIGHT
TZOFFSETFROM:+0100
TZOFFSETTO:+0200
TZNAME:CEST
DTSTART:20240331T010000
END:DAYLIGHT
BEGIN:STANDARD
TZOFFSETFROM:+0200
TZOFFSETTO:+0100
TZNAME:CET
DTSTART:20241027T010000
END:STANDARD
END:VTIMEZONE
BEGIN:VEVENT
DTSTART;TZID=Europe/Madrid:20230517T083000
DTEND;TZID=Europe/Madrid:20230517T203000
DTSTAMP:20260421T233633
CREATED:20230504T120709Z
LAST-MODIFIED:20230504T120709Z
UID:12398-1684312200-1684355400@m4social.org
SUMMARY:BxCat\, la fira catalana de blockchain i metaversos
DESCRIPTION:El pròxim dimecres 17 de maig\, Girona acollirà la tercera edició de la BxCat\, la fira catalana de blockchain i metaversos que organitza el Centre Blockchain de Catalunya. \nEl BxCat té com a objectiu ser un punt de nexe\, debat i especialment divulgació entre empreses catalanes vinculades al món de la tecnologia blockchain\, i altres organitzacions o particulars que puguin estar interessats en aquesta tecnologia disruptiva. \nEl BxCat vol situar Catalunya en general\, i Girona en concret\, com un punt de referència a escala global en blockchain\, tecnologies descentralitzades (DLT) i metaversos. \nÉs un esdeveniment únic al país i sense precedents\, una fira sobre blockchain en català feta per i amb gent i empreses exclusivament del territori. \nLes entrades es poden adquirir aquí.
URL:https://m4social.org/esdeveniment/bxcat-la-fira-catalana-de-blockchain-i-metaversos/
LOCATION:Palau de Congressos\, Passeig de la Devesa\, 35\, Girona\, Girona\, 17001
ATTACH;FMTTYPE=image/png:https://m4social.org/wp-content/uploads/2023/05/Twitter-BxCat-2023-2000-×-900-px-2000-×-600-px-845x321-1.png
END:VEVENT
END:VCALENDAR