BEGIN:VCALENDAR
VERSION:2.0
PRODID:-//m4Social - ECPv6.15.20//NONSGML v1.0//EN
CALSCALE:GREGORIAN
METHOD:PUBLISH
X-WR-CALNAME:m4Social
X-ORIGINAL-URL:https://m4social.org
X-WR-CALDESC:Esdeveniments per m4Social
REFRESH-INTERVAL;VALUE=DURATION:PT1H
X-Robots-Tag:noindex
X-PUBLISHED-TTL:PT1H
BEGIN:VTIMEZONE
TZID:Europe/Madrid
BEGIN:DAYLIGHT
TZOFFSETFROM:+0100
TZOFFSETTO:+0200
TZNAME:CEST
DTSTART:20250330T010000
END:DAYLIGHT
BEGIN:STANDARD
TZOFFSETFROM:+0200
TZOFFSETTO:+0100
TZNAME:CET
DTSTART:20251026T010000
END:STANDARD
BEGIN:DAYLIGHT
TZOFFSETFROM:+0100
TZOFFSETTO:+0200
TZNAME:CEST
DTSTART:20260329T010000
END:DAYLIGHT
BEGIN:STANDARD
TZOFFSETFROM:+0200
TZOFFSETTO:+0100
TZNAME:CET
DTSTART:20261025T010000
END:STANDARD
BEGIN:DAYLIGHT
TZOFFSETFROM:+0100
TZOFFSETTO:+0200
TZNAME:CEST
DTSTART:20270328T010000
END:DAYLIGHT
BEGIN:STANDARD
TZOFFSETFROM:+0200
TZOFFSETTO:+0100
TZNAME:CET
DTSTART:20271031T010000
END:STANDARD
END:VTIMEZONE
BEGIN:VEVENT
DTSTART;VALUE=DATE:20260517
DTEND;VALUE=DATE:20260521
DTSTAMP:20260422T140653
CREATED:20260416T141756Z
LAST-MODIFIED:20260416T142040Z
UID:34946-1778976000-1779321599@m4social.org
SUMMARY:Congrés European Social Services (ESSC 2026)
DESCRIPTION:El Congrés European Social Services (ESSC) és l’esdeveniment anual principal de l’European Social Network (ESN)\, la xarxa europea que aglutina els principals gestors dels serveis socials públics. És la trobada europea més important sobre polítiques i pràctiques de benestar social\, i l’any passat va comptar amb l’assistència de quasi 700 representants a Aarhus. \nL’edició del 2026 reunirà de nou administracions públiques\, organitzacions del tercer sector social\, professionals de serveis socials\, proveïdors de solucions tecnològiques i investigadors per intercanviar coneixements i experiències d’arreu d’Europa i del món. \nL’esdeveniment tindrà lloc del 17 al 20 de maig a Valletta\, Malta. \nConsulta més informació.
URL:https://m4social.org/esdeveniment/congres-european-social-services-essc-2026/
ATTACH;FMTTYPE=image/png:https://m4social.org/wp-content/uploads/2026/04/Cartell-Congres-European-Social-Services-ESSC-2026.png
ORGANIZER;CN="European Social Network":MAILTO:info@esn-eu.org
END:VEVENT
END:VCALENDAR