BEGIN:VCALENDAR
VERSION:2.0
PRODID:-//m4Social - ECPv6.15.20//NONSGML v1.0//EN
CALSCALE:GREGORIAN
METHOD:PUBLISH
X-WR-CALNAME:m4Social
X-ORIGINAL-URL:https://m4social.org
X-WR-CALDESC:Esdeveniments per m4Social
REFRESH-INTERVAL;VALUE=DURATION:PT1H
X-Robots-Tag:noindex
X-PUBLISHED-TTL:PT1H
BEGIN:VTIMEZONE
TZID:Europe/Madrid
BEGIN:DAYLIGHT
TZOFFSETFROM:+0100
TZOFFSETTO:+0200
TZNAME:CEST
DTSTART:20240331T010000
END:DAYLIGHT
BEGIN:STANDARD
TZOFFSETFROM:+0200
TZOFFSETTO:+0100
TZNAME:CET
DTSTART:20241027T010000
END:STANDARD
BEGIN:DAYLIGHT
TZOFFSETFROM:+0100
TZOFFSETTO:+0200
TZNAME:CEST
DTSTART:20250330T010000
END:DAYLIGHT
BEGIN:STANDARD
TZOFFSETFROM:+0200
TZOFFSETTO:+0100
TZNAME:CET
DTSTART:20251026T010000
END:STANDARD
BEGIN:DAYLIGHT
TZOFFSETFROM:+0100
TZOFFSETTO:+0200
TZNAME:CEST
DTSTART:20260329T010000
END:DAYLIGHT
BEGIN:STANDARD
TZOFFSETFROM:+0200
TZOFFSETTO:+0100
TZNAME:CET
DTSTART:20261025T010000
END:STANDARD
END:VTIMEZONE
BEGIN:VEVENT
DTSTART;VALUE=DATE:20251111
DTEND;VALUE=DATE:20251112
DTSTAMP:20260423T133839
CREATED:20250724T075338Z
LAST-MODIFIED:20250724T145622Z
UID:30728-1762819200-1762905599@m4social.org
SUMMARY:Acte de cloenda projecte SimbiòTIC
DESCRIPTION:La ‘Tardor digital’ de m4Social\, cicle d’activitats vinculades a la innovació digital previstes per a finals d’aquest any\, acabarà amb un acte de cloenda del projecte SimbiòTIC. La iniciativa\, compartida amb l’Associació SinergiaTIC i amb el finançament dels fons europeus Next Generation\, té per objectiu avançar cap a la gestió de les dades dins les entitats del tercer sector social gràcies a l’ús d’un CRM. \nDesprés de dos anys i mig de trajectòria per a la seva implementació\, l’eina SinergiaCRM haurà arribat a 40 entitats noves\, i 40 més hauran aportat millores considerables per fer d’aquesta eina un software útil al servei del tercer sector social. \nLa jornada de tancament tindrà lloc el dimarts 11 de novembre al Hub Social (c/ Girona 34\, interior\, Barcelona). \nBen aviat s’ampliarà la informació.
URL:https://m4social.org/esdeveniment/acte-cloenda-projecte-simbiotic/
LOCATION:Hub Social\, c/Girona 34\, interior\, Barcelona\, 08010\, Espanya
ATTACH;FMTTYPE=image/jpeg:https://m4social.org/wp-content/uploads/2025/07/pexels-markusspiske-1089438-scaled.jpg
END:VEVENT
BEGIN:VEVENT
DTSTART;VALUE=DATE:20251119
DTEND;VALUE=DATE:20251121
DTSTAMP:20260423T133839
CREATED:20250730T131859Z
LAST-MODIFIED:20250730T133613Z
UID:30814-1763510400-1763683199@m4social.org
SUMMARY:Jornades Beta
DESCRIPTION:Les Jornades Beta\, organitzades per Techbloc4\, són un espai de trobada\, debat i inspiració per repensar com posar la tecnologia al servei de les persones. \nL’esdeveniment inclou TechTalks\, masterclasses\, tallers participatius i espais de networking per intercanviar idees\, inquietuds i solucions amb persones i projectes que impulsen la innovació i la transformació digital. \nLes Jornades Beta tindran lloc els dies 19 i 20 de novembre al Bloc4BCN (Recinte Can Batlló – Bloc 4\, Barcelona). \nMés informació i inscripcions.
URL:https://m4social.org/esdeveniment/jornades-beta/
LOCATION:BLOC4BCN\, Carrer de la Constitució\, 19\, Barcelona\, Barcelona\, 08014\, Espanya
ATTACH;FMTTYPE=image/jpeg:https://m4social.org/wp-content/uploads/2025/07/Cartell-Jornades-Beta-Techbloc4.jpg
END:VEVENT
END:VCALENDAR