BEGIN:VCALENDAR
VERSION:2.0
PRODID:-//m4Social - ECPv6.15.20//NONSGML v1.0//EN
CALSCALE:GREGORIAN
METHOD:PUBLISH
X-ORIGINAL-URL:https://m4social.org
X-WR-CALDESC:Esdeveniments per m4Social
REFRESH-INTERVAL;VALUE=DURATION:PT1H
X-Robots-Tag:noindex
X-PUBLISHED-TTL:PT1H
BEGIN:VTIMEZONE
TZID:Europe/Madrid
BEGIN:DAYLIGHT
TZOFFSETFROM:+0100
TZOFFSETTO:+0200
TZNAME:CEST
DTSTART:20210328T010000
END:DAYLIGHT
BEGIN:STANDARD
TZOFFSETFROM:+0200
TZOFFSETTO:+0100
TZNAME:CET
DTSTART:20211031T010000
END:STANDARD
BEGIN:DAYLIGHT
TZOFFSETFROM:+0100
TZOFFSETTO:+0200
TZNAME:CEST
DTSTART:20220327T010000
END:DAYLIGHT
BEGIN:STANDARD
TZOFFSETFROM:+0200
TZOFFSETTO:+0100
TZNAME:CET
DTSTART:20221030T010000
END:STANDARD
BEGIN:DAYLIGHT
TZOFFSETFROM:+0100
TZOFFSETTO:+0200
TZNAME:CEST
DTSTART:20230326T010000
END:DAYLIGHT
BEGIN:STANDARD
TZOFFSETFROM:+0200
TZOFFSETTO:+0100
TZNAME:CET
DTSTART:20231029T010000
END:STANDARD
END:VTIMEZONE
BEGIN:VEVENT
DTSTART;TZID=Europe/Madrid:20220721T093000
DTEND;TZID=Europe/Madrid:20220721T130000
DTSTAMP:20260419T150640
CREATED:20220706T154702Z
LAST-MODIFIED:20220706T154843Z
UID:8457-1658395800-1658408400@m4social.org
SUMMARY:Exponential Day #4
DESCRIPTION:Només qui es rebel·la contra la realitat té la capacitat per canviar-la.\nLa rebel·lió és a la gènesi de tota disrupció. I per rebel·lar-se cal creure i impulsar una cultura predisposada al canvi\, a la trencadissa i a l’error. En aquesta 4a edició de l’Exponential Day es posarà el focus a la tecnologia més exponencial que mai hagi creat la humanitat: la cultura de la disrupció. \nDesprés d’unes primeres edicions centrades en imaginar negocis exponencials i en com crear empreses invencibles\, l’Exponential Day #4 mostrarà el camí del canvi cultural imprescindible per fer-ho realitat. Perquè no hi ha disrupció sense rebels\, com ens demostraran els ponents centrals de la jornada\, Simone Van Neerven i Aleix Valls. \nConeixeràs de primera mà el potencial disruptiu que poden tenir el metavers\, la realitat virtual o els NFTs per a la teva organització. A més\, descobriràs les 10 empreses més disruptives de Catalunya del 2022.
URL:https://m4social.org/esdeveniment/exponential-day-4/
LOCATION:CosmoCaixa\, Carrer d'Isaac Newton\, 26\, Barcelona\, Barcelona\, 08022\, Espanya
ATTACH;FMTTYPE=image/jpeg:https://m4social.org/wp-content/uploads/2022/07/exponential-day-slider.jpg_223078711.jpg
END:VEVENT
END:VCALENDAR